BEGIN:VCALENDAR
VERSION:2.0
PRODID:-//ChamberMaster//Event Calendar 2.0//EN
METHOD:PUBLISH
X-PUBLISHED-TTL:P3D
REFRESH-INTERVAL:P3D
CALSCALE:GREGORIAN
BEGIN:VEVENT
DTSTART;VALUE=DATE:20170629
DTEND;VALUE=DATE:20170703
TRANSP:TRANSPARENT
X-MICROSOFT-CDO-ALLDAYEVENT:TRUE
SUMMARY:4th Annual Boots in the Mudd
DESCRIPTION:
X-ALT-DESC;FMTTYPE=text/html:
LOCATION:River Run ATV Park
UID:e.1467.2830
SEQUENCE:3
DTSTAMP:20260425T112858Z
URL:http://business.jacksonvilletexas.com/events/details/4th-annual-boots-in-the-mudd-2830
END:VEVENT

END:VCALENDAR
