BEGIN:VCALENDAR
VERSION:2.0
PRODID:-//ChamberMaster//Event Calendar 2.0//EN
METHOD:PUBLISH
X-PUBLISHED-TTL:P3D
REFRESH-INTERVAL:P3D
CALSCALE:GREGORIAN
BEGIN:VEVENT
DTSTART;VALUE=DATE:20180303
DTEND;VALUE=DATE:20180304
TRANSP:TRANSPARENT
X-MICROSOFT-CDO-ALLDAYEVENT:TRUE
SUMMARY:5th Kiwanis Shootout
DESCRIPTION:
X-ALT-DESC;FMTTYPE=text/html:
LOCATION:Mud Creek Off Road Park
UID:e.1467.4120
SEQUENCE:3
DTSTAMP:20260423T150742Z
URL:http://business.jacksonvilletexas.com/events/details/5th-kiwanis-shootout-4120
END:VEVENT

END:VCALENDAR
