BEGIN:VCALENDAR
VERSION:2.0
PRODID:-//ChamberMaster//Event Calendar 2.0//EN
METHOD:PUBLISH
X-PUBLISHED-TTL:P3D
REFRESH-INTERVAL:P3D
CALSCALE:GREGORIAN
BEGIN:VEVENT
DTSTART:20180802T210000Z
DTEND:20180803T000000Z
X-MICROSOFT-CDO-ALLDAYEVENT:FALSE
SUMMARY:Back 2 School Fair
DESCRIPTION:Backpacks filled with grade level school supplies for registered JISD students.\n\nRegistration will be checked.
X-ALT-DESC;FMTTYPE=text/html:Backpacks filled with grade level school supplies for registered JISD students.<br />\nRegistration will be checked.
LOCATION:John Alexander Gym 811 Farnsworth\, Jacksonville\, TX
UID:e.1467.4131
SEQUENCE:3
DTSTAMP:20260421T234320Z
URL:http://business.jacksonvilletexas.com/events/details/back-2-school-fair-4131
END:VEVENT

END:VCALENDAR
