BEGIN:VCALENDAR
VERSION:2.0
PRODID:-//ChamberMaster//Event Calendar 2.0//EN
METHOD:PUBLISH
X-PUBLISHED-TTL:P3D
REFRESH-INTERVAL:P3D
CALSCALE:GREGORIAN
BEGIN:VEVENT
DTSTART:20181001T220000Z
DTEND:20181002T000000Z
X-MICROSOFT-CDO-ALLDAYEVENT:FALSE
SUMMARY:Becoming a Mom
DESCRIPTION:We are now providing exciting education sessions in the Cherokee County area.\n\nOur "Becoming a Mom" \n\nsessions include:\n\n \n\n  The chance to interact with other pregnant women\n\n  Opportunity to share your experiences and concerns with other moms who may share the same as you\n\n  A chance to involve your partner in the prenatal experience\n\n  Information about infant care\n\n  Healthy pregnancy tips\n\n  Insight into labor and delivery\n\n  Information and helpful resources about breastfeeding
X-ALT-DESC;FMTTYPE=text/html:<strong><span style="font-family:arial rounded mt bold"><span style="font-size:18.0pt">We are now providing exciting education sessions in the Cherokee County area.</span></span></strong><br />\n<strong><span style="font-family:arial rounded mt bold"><span style="font-size:18.0pt">Our &ldquo\;Becoming a Mom&rdquo\; </span></span></strong><br />\n<strong><span style="font-family:arial rounded mt bold"><span style="font-size:18.0pt">sessions include:</span></span></strong><br />\n&nbsp\;<br />\n<span style="color:black"><span style="font-size:10.0pt"><span style="font-family:wingdings">&uuml\;</span></span></span>&nbsp\;<span style="font-family:arial rounded mt bold"><span style="font-size:14.0pt">The chance to interact with other pregnant women</span></span><br />\n<span style="color:black"><span style="font-size:10.0pt"><span style="font-family:wingdings">&uuml\;</span></span></span>&nbsp\;<span style="font-family:arial rounded mt bold"><span style="font-size:14.0pt">Opportunity to share your experiences and concerns with other moms who may share the same as you</span></span><br />\n<span style="color:black"><span style="font-size:10.0pt"><span style="font-family:wingdings">&uuml\;</span></span></span>&nbsp\;<span style="font-family:arial rounded mt bold"><span style="font-size:14.0pt">A chance to involve your partner in the prenatal experience</span></span><br />\n<span style="color:black"><span style="font-size:10.0pt"><span style="font-family:wingdings">&uuml\;</span></span></span>&nbsp\;<span style="font-family:arial rounded mt bold"><span style="font-size:14.0pt">Information about infant care</span></span><br />\n<span style="color:black"><span style="font-size:10.0pt"><span style="font-family:wingdings">&uuml\;</span></span></span>&nbsp\;<span style="font-family:arial rounded mt bold"><span style="font-size:14.0pt">Healthy pregnancy tips</span></span><br />\n<span style="color:black"><span style="font-size:10.0pt"><span style="font-family:wingdings">&uuml\;</span></span></span>&nbsp\;<span style="font-family:arial rounded mt bold"><span style="font-size:14.0pt">Insight into labor and delivery</span></span><br />\n<span style="color:black"><span style="font-size:10.0pt"><span style="font-family:wingdings">&uuml\;</span></span></span>&nbsp\;<span style="font-family:arial rounded mt bold"><span style="font-size:14.0pt">Information and helpful resources about breastfeeding</span></span><br />\n&nbsp\;
LOCATION:CHRISTUS Trinity Mother Frances Rotunda Conference Center 2026 South Jackson ~ Jacksonville
UID:e.1467.4614
SEQUENCE:3
DTSTAMP:20260424T054208Z
URL:http://business.jacksonvilletexas.com/events/details/becoming-a-mom-4614
END:VEVENT

END:VCALENDAR
