BEGIN:VCALENDAR
VERSION:2.0
PRODID:-//ChamberMaster//Event Calendar 2.0//EN
METHOD:PUBLISH
X-PUBLISHED-TTL:P3D
REFRESH-INTERVAL:P3D
CALSCALE:GREGORIAN
BEGIN:VEVENT
DTSTART;VALUE=DATE:20180529
DTEND;VALUE=DATE:20180530
TRANSP:TRANSPARENT
X-MICROSOFT-CDO-ALLDAYEVENT:TRUE
SUMMARY:Bison Ranch Tour
DESCRIPTION:Visit the 310 Bison Ranch in Jacksonville. Learn a little about the most magnificent animal that ever roamed the American landscape\, and then take a free tour to see the herd. They are social\, and typically will eat from your hand (food provided\, please don't bring anything). Call to make a reservation to spend some time with this genuine legend. 949-683-1923. There is no cost involved.
X-ALT-DESC;FMTTYPE=text/html:Visit the 310 Bison Ranch in Jacksonville. Learn a little about the most magnificent animal that ever roamed the American landscape\, and then take a free tour to see the herd. They are social\, and typically will eat from your hand (food provided\, please don&#39\;t bring anything). Call to make a reservation to spend some time with this genuine legend. 949-683-1923. There is no cost involved.&nbsp\;
LOCATION:1978 US Highway 79 West. Jacksonville\, TX 75766
UID:e.1467.4174
SEQUENCE:3
DTSTAMP:20260424T025028Z
URL:http://business.jacksonvilletexas.com/events/details/bison-ranch-tour-4174
END:VEVENT

END:VCALENDAR
