BEGIN:VCALENDAR
VERSION:2.0
PRODID:-//ChamberMaster//Event Calendar 2.0//EN
METHOD:PUBLISH
X-PUBLISHED-TTL:P3D
REFRESH-INTERVAL:P3D
CALSCALE:GREGORIAN
BEGIN:VEVENT
DTSTART:20190319T220000Z
DTEND:20190319T230000Z
X-MICROSOFT-CDO-ALLDAYEVENT:FALSE
SUMMARY:Business After Hours
DESCRIPTION:Business After Hours\n\n\n\n~YOU'RE INVITED~\n\n\n\nChristus Mother Frances Hospital - Jacksonville will be hosting a Business After Hours on Tuesday\, March 19th at 5:00 pm. There will be door prizes and a $50 drawing for Chamber Members.\n\n\n\n*Make sure to bring business cards!
X-ALT-DESC;FMTTYPE=text/html:Business After Hours<br />\n<br />\n<span style="color: rgb(29\, 33\, 41)\; font-family: Helvetica\, Arial\, sans-serif\; font-size: 14px\; white-space: pre-wrap\; background-color: rgb(255\, 255\, 255)\;">~YOU&#39\;RE INVITED~</span><br style="color: rgb(29\, 33\, 41)\; font-family: Helvetica\, Arial\, sans-serif\; font-size: 14px\; white-space: pre-wrap\; background-color: rgb(255\, 255\, 255)\;" />\n<br style="color: rgb(29\, 33\, 41)\; font-family: Helvetica\, Arial\, sans-serif\; font-size: 14px\; white-space: pre-wrap\; background-color: rgb(255\, 255\, 255)\;" />\n<span style="color: rgb(29\, 33\, 41)\; font-family: Helvetica\, Arial\, sans-serif\; font-size: 14px\; white-space: pre-wrap\; background-color: rgb(255\, 255\, 255)\;">Christus Mother Frances Hospital - Jacksonville will be hosting a Business After Hours on Tuesday\, March 19th at 5:00 pm. There will be door prizes and a $50 drawing for Chamber Members.</span><br style="color: rgb(29\, 33\, 41)\; font-family: Helvetica\, Arial\, sans-serif\; font-size: 14px\; white-space: pre-wrap\; background-color: rgb(255\, 255\, 255)\;" />\n<br style="color: rgb(29\, 33\, 41)\; font-family: Helvetica\, Arial\, sans-serif\; font-size: 14px\; white-space: pre-wrap\; background-color: rgb(255\, 255\, 255)\;" />\n<span style="color: rgb(29\, 33\, 41)\; font-family: Helvetica\, Arial\, sans-serif\; font-size: 14px\; white-space: pre-wrap\; background-color: rgb(255\, 255\, 255)\;">*Make sure to bring business cards!</span>
LOCATION:2026 S. Jackson CHRISTUS Mother Frances Hospital - Jacksonville Pain Center
UID:e.1467.6067
SEQUENCE:3
DTSTAMP:20260420T083121Z
URL:http://business.jacksonvilletexas.com/events/details/business-after-hours-6067
END:VEVENT

END:VCALENDAR
