BEGIN:VCALENDAR
VERSION:2.0
PRODID:-//ChamberMaster//Event Calendar 2.0//EN
METHOD:PUBLISH
X-PUBLISHED-TTL:P3D
REFRESH-INTERVAL:P3D
CALSCALE:GREGORIAN
BEGIN:VEVENT
DTSTART:20170916T130000Z
DTEND:20170916T190000Z
X-MICROSOFT-CDO-ALLDAYEVENT:FALSE
SUMMARY:Cherokee Neches River Float
DESCRIPTION:Float event on the Cherokee Neches River State Paddling Trail!
X-ALT-DESC;FMTTYPE=text/html:<span style="font-family: Verdana\, Arial\, Helvetica\, Tahoma\, sans-serif\; font-size: 14px\; background-color: rgb(255\, 255\, 255)\;">Float event on the Cherokee Neches River State Paddling Trail!</span>
LOCATION:Launch at River Run Park\, 2001 CR 3315\, Jacksonville\, TX 75766 Take out at HWY 79 Bridge
UID:e.1467.4067
SEQUENCE:3
DTSTAMP:20260424T215849Z
URL:http://business.jacksonvilletexas.com/events/details/cherokee-neches-river-float-4067
END:VEVENT

END:VCALENDAR
