BEGIN:VCALENDAR
VERSION:2.0
PRODID:-//ChamberMaster//Event Calendar 2.0//EN
METHOD:PUBLISH
X-PUBLISHED-TTL:P3D
REFRESH-INTERVAL:P3D
CALSCALE:GREGORIAN
BEGIN:VEVENT
DTSTART:20181218T000000Z
DTEND:20181218T020000Z
X-MICROSOFT-CDO-ALLDAYEVENT:FALSE
SUMMARY:Christmas Parade
DESCRIPTION:Jacksonville's Annual Christmas Parade\n\nGrand Marshal: Jacksonville Citizen's Police Academy\, Grand Marshal Float sponsored by: Cardinal Health\n\n2018 Theme: A Christmas Story\n\nTrophies sponsored by Congratulations!
X-ALT-DESC;FMTTYPE=text/html:Jacksonville&#39\;s Annual Christmas Parade<br />\nGrand Marshal: Jacksonville Citizen&#39\;s Police Academy\, Grand Marshal Float sponsored by: Cardinal Health<br />\n2018 Theme: A Christmas Story<br />\nTrophies sponsored by Congratulations!<br />\n&nbsp\;
LOCATION:Commerce Street. Floats and vehicles in the parade enter from Hwy 79\, at Post Office\, turn on Zimmerman\, turn right onto Commerce. Line up begins at the corner of Commerce and Patton\, parade will continue on Commerce St.\, turn left on Austin St. and turn left again on Wilson St. continue on Wilson and turn left on Bonner St.. Only registered floats and vehicles will be allowed to enter the parade lineup. Courtesy of City of Jacksonville
UID:e.1467.4139
SEQUENCE:3
DTSTAMP:20260419T220409Z
URL:http://business.jacksonvilletexas.com/events/details/christmas-parade-4139
END:VEVENT

END:VCALENDAR
