BEGIN:VCALENDAR
VERSION:2.0
PRODID:-//ChamberMaster//Event Calendar 2.0//EN
METHOD:PUBLISH
X-PUBLISHED-TTL:P3D
REFRESH-INTERVAL:P3D
CALSCALE:GREGORIAN
BEGIN:VEVENT
DTSTART:20170928T150000Z
DTEND:20170928T230000Z
X-MICROSOFT-CDO-ALLDAYEVENT:FALSE
SUMMARY:Drive 4 UR School 2017
DESCRIPTION:Drive 4 UR School - Take a free test-drive in a new Ford vehicle and Ford Motor Company will donate $20 per test-drive up to $6000.  Benefiting Jacksonville Chamber Adopt-A-School.  In February the Adopt-A-School committee donated $6100 to Jacksonville ISD Schools.
X-ALT-DESC;FMTTYPE=text/html:<span style="color: rgb(51\, 51\, 51)\; font-family: sans-serif\, Arial\, Verdana\, &quot\;Trebuchet MS&quot\;\; font-size: 13px\; background-color: rgb(255\, 255\, 255)\;">Drive 4 UR School - Take a free test-drive in a new Ford vehicle and Ford Motor Company will donate $20 per test-drive up to $6000. &nbsp\;Benefiting Jacksonville Chamber Adopt-A-School. &nbsp\;In February the Adopt-A-School committee donated $6100 to&nbsp\;</span>Jacksonville ISD<span style="color: rgb(51\, 51\, 51)\; font-family: sans-serif\, Arial\, Verdana\, &quot\;Trebuchet MS&quot\;\; font-size: 13px\; background-color: rgb(255\, 255\, 255)\;">&nbsp\;Schools.</span>
LOCATION:Bill McRae Ford 1511 E. Rusk St. Jacksonville\, TX 75766
UID:e.1467.4083
SEQUENCE:3
DTSTAMP:20260425T164822Z
URL:http://business.jacksonvilletexas.com/events/details/drive-4-ur-school-2017-4083
END:VEVENT

END:VCALENDAR
