BEGIN:VCALENDAR
VERSION:2.0
PRODID:-//ChamberMaster//Event Calendar 2.0//EN
METHOD:PUBLISH
X-PUBLISHED-TTL:P3D
REFRESH-INTERVAL:P3D
CALSCALE:GREGORIAN
BEGIN:VEVENT
DTSTART:20180927T150000Z
DTEND:20180927T230000Z
X-MICROSOFT-CDO-ALLDAYEVENT:FALSE
SUMMARY:Driven to Give 2018
DESCRIPTION:Adopt-A-School Fundraiser/Driven to Give\n\nTest drive a new Lincoln vehicle at McRae Ford Lincoln and Lincoln will pay $20 per test drive\, up to $8000!  No sales pressure or purchase! Twin Oaks will donate and cook hotdogs from 11am - 1pm\, Royon Farmers Insurance will donate chips\, cookie and water to go with your hotdog\, so come out take a quick test-drive and help raise $8000 for our JISD schools!  All drivers and entered to win door prizes! \n\nAll proceeds benefit JISD schools. School/Parent challenge\, campus with the most drivers wins $750 bonus money.
X-ALT-DESC;FMTTYPE=text/html:Adopt-A-School Fundraiser/Driven to Give<br />\nTest drive a new Lincoln vehicle at McRae Ford Lincoln and Lincoln will pay $20 per test drive\, up to $8000!&nbsp\; No sales pressure or purchase! Twin Oaks will donate and cook hotdogs from 11am - 1pm\, Royon Farmers Insurance will donate chips\, cookie and water to go with your hotdog\, so come out take a quick test-drive and help raise $8000 for our JISD schools!&nbsp\; All drivers and entered to win door prizes!&nbsp\;<br />\nAll proceeds benefit JISD&nbsp\;schools. School/Parent challenge\, campus with the most drivers wins&nbsp\;$750 bonus money.&nbsp\;
LOCATION:McRae Ford Lincoln 1511 E. Rusk St. Jacksonville\, TX
UID:e.1467.4594
SEQUENCE:3
DTSTAMP:20260420T110629Z
URL:http://business.jacksonvilletexas.com/events/details/driven-to-give-2018-4594
END:VEVENT

END:VCALENDAR
