BEGIN:VCALENDAR
VERSION:2.0
PRODID:-//ChamberMaster//Event Calendar 2.0//EN
METHOD:PUBLISH
X-PUBLISHED-TTL:P3D
REFRESH-INTERVAL:P3D
CALSCALE:GREGORIAN
BEGIN:VEVENT
DTSTART:20130320T190000Z
DTEND:20130320T200000Z
X-MICROSOFT-CDO-ALLDAYEVENT:FALSE
SUMMARY:East Side Elementary Ground Breaking
DESCRIPTION:The Reading Garden will be having a Ground Breaking at\n\n	East Side Elementary School\n\n	on\n\n	\n\n	March 20\, 2013\n\n	\n\n	at\n\n	\n\n	2:00 PM
X-ALT-DESC;FMTTYPE=text/html:<div style="text-align: center\;">\n	<span style="color: rgb(0\, 0\, 205)\;"><span style="font-size: 16px\;">The Reading Garden will be having a Ground Breaking at<br />\n	East Side Elementary School<br />\n	on<br />\n	<br />\n	<span style="font-size: 24px\;">March 20\, 2013<br />\n	<br />\n	at<br />\n	<br />\n	2:00 PM</span></span></span></div>\n
LOCATION:East Side Elementary 711 Fort Worth St. Jacksonville\, Texas 75766
UID:e.1467.428
SEQUENCE:3
DTSTAMP:20260425T131826Z
URL:http://business.jacksonvilletexas.com/events/details/east-side-elementary-ground-breaking-03-20-2013-428
END:VEVENT

END:VCALENDAR
