BEGIN:VCALENDAR
VERSION:2.0
PRODID:-//ChamberMaster//Event Calendar 2.0//EN
METHOD:PUBLISH
X-PUBLISHED-TTL:P3D
REFRESH-INTERVAL:P3D
CALSCALE:GREGORIAN
BEGIN:VEVENT
DTSTART:20181111T170000Z
DTEND:20181111T190000Z
X-MICROSOFT-CDO-ALLDAYEVENT:FALSE
SUMMARY:Empty Bowl 2018
DESCRIPTION:Friends\, You're Are Cordially Invited:\n\nThis letter is to invite you to participate in this year's Empty Bowl event to benefit H.O.P.E. The 2018 event will be held at the Central Baptist Church in Jacksonville on November 11\, 2018\, from 11:30 to 1:00.\n\nEmpty Bowl Projects are a fundraising event that started with one person's idea and has grown into a grassroots movement. Here in Jacksonville\, the Board of H.O.P.E. holds an Empty Bowl lunch as a fundraiser to help meet the many needs of those less fortunate in the community.\n\nThere are more than 10 churches with over 20 types of homemade soup. Included in the admission is as much soup as you can eat\, bread\, beverage\, dessert\, and live entertainment. The cost of tickets will be $10 per person with a $30 max for families. There will also be a live auction with homemade sweets to bid on.\n\nAll proceeds go to benefit H.O.P.E. and the many programs we pursue to help the community. For more information or if you have additional questions\, please contact H.O.P.E. at 903-586-7781.
X-ALT-DESC;FMTTYPE=text/html:<p>Friends\, You&#39\;re Are Cordially Invited:</p>\n\n<p>This letter is to invite you to participate in this year&#39\;s Empty Bowl event to benefit H.O.P.E. The 2018 event will be held at the Central Baptist Church in Jacksonville on November 11\, 2018\, from 11:30 to 1:00.</p>\n\n<p>Empty Bowl Projects are a fundraising event that started with one person&#39\;s idea and has grown into a grassroots movement. Here in Jacksonville\, the Board of H.O.P.E. holds an Empty Bowl lunch as a fundraiser to help meet the many needs of those less fortunate in the community.</p>\n\n<p>There are more than 10 churches with over 20 types of homemade soup. Included in the admission is as much soup as you can eat\, bread\, beverage\, dessert\, and live entertainment. The cost of tickets will be $10 per person with a $30 max for families. There will also be a live auction with homemade sweets to bid on.</p>\n\n<p>All proceeds go to benefit H.O.P.E. and the many programs we pursue to help the community. For more information or if you have additional questions\, please contact H.O.P.E. at 903-586-7781.</p>\n
LOCATION:The 2018 event will be held at the Central Baptist Church in Jacksonville.
UID:e.1467.5542
SEQUENCE:3
DTSTAMP:20260420T132410Z
URL:http://business.jacksonvilletexas.com/events/details/empty-bowl-2018-5542
END:VEVENT

END:VCALENDAR
