BEGIN:VCALENDAR
VERSION:2.0
PRODID:-//ChamberMaster//Event Calendar 2.0//EN
METHOD:PUBLISH
X-PUBLISHED-TTL:P3D
REFRESH-INTERVAL:P3D
CALSCALE:GREGORIAN
BEGIN:VEVENT
DTSTART:20171107T180000Z
DTEND:20171107T190000Z
X-MICROSOFT-CDO-ALLDAYEVENT:FALSE
SUMMARY:Fall Membership Luncheon
DESCRIPTION:2017 Outstanding Business Man & Woman to be announced!\n\nHave you made your reservation?\n\nTuesday\, November 7th   12 noon\n\nFall Membership Meeting   Jacksonville Chamber of Commerce\n\nCost $20   includes catered luncheon by Sadler's Kitchen & Catering\n\n \n\nOn-Line Reservations available http://www.jacksonvilletexas.com/events/details/fall-membership-luncheon-4091\n\nOr stop by the Chamber office.\n\nNo tickets available at the door.\n\n \n\nDEADLINE:\n\nFriday\, November 3rd
X-ALT-DESC;FMTTYPE=text/html:<span style="font-family:ar cena\;"><span style="font-size:24pt\;">2017 Outstanding Business Man &amp\; Woman to be announced!</span></span><br />\n<span style="font-family:ar cena\;"><span style="font-size:24pt\;">Have you made your reservation?</span></span><br />\n<span style="font-family:ar cena\;"><span style="font-size:24pt\;">Tuesday\, November 7th &ndash\; 12 noon</span></span><br />\n<span style="font-family:ar cena\;"><span style="font-size:24pt\;">Fall Membership Meeting &ndash\; Jacksonville Chamber of Commerce</span></span><br />\n<span style="font-family:ar cena\;"><span style="font-size:24pt\;">Cost $20 &ndash\; includes catered luncheon by Sadler&#39\;s Kitchen &amp\; Catering</span></span><br />\n&nbsp\;<br />\n<span style="font-family:ar cena\;"><span style="font-size:24pt\;">On-Line Reservations available http://www.jacksonvilletexas.com/events/details/fall-membership-luncheon-4091</span></span><br />\n<span style="font-family:ar cena\;"><span style="font-size:24pt\;">Or stop by the Chamber office.</span></span><br />\n<span style="font-family:ar cena\;"><span style="font-size:24pt\;">No tickets available at the door.</span></span><br />\n&nbsp\;<br />\n<span style="font-family:ar cena\;"><span style="font-size:24pt\;">DEADLINE:</span></span><br />\n<span style="font-family:ar cena\;"><span style="font-size:24pt\;">Friday\, November 3rd</span></span><br />\n&nbsp\;
LOCATION:Norman Activity Center
UID:e.1467.4091
SEQUENCE:3
DTSTAMP:20260424T120347Z
URL:http://business.jacksonvilletexas.com/events/details/fall-membership-luncheon-4091
END:VEVENT

END:VCALENDAR
