BEGIN:VCALENDAR
VERSION:2.0
PRODID:-//ChamberMaster//Event Calendar 2.0//EN
METHOD:PUBLISH
X-PUBLISHED-TTL:P3D
REFRESH-INTERVAL:P3D
CALSCALE:GREGORIAN
BEGIN:VEVENT
DTSTART:20170713T140000Z
DTEND:20170713T160000Z
X-MICROSOFT-CDO-ALLDAYEVENT:FALSE
SUMMARY:Job Fair Prep Workshop
DESCRIPTION:The Workforce Solutions East Texas Jacksonville will be holding seminars to help you prepare for the best Job fair in East Texas. - Resume and application Prep.
X-ALT-DESC;FMTTYPE=text/html:<span style="font-family:algerian\;"><span style="font-size:14.0pt\;">The Workforce Solutions East Texas Jacksonville will be holding seminars to help you prepare for the best Job fair in East Texas. - Resume and application Prep.</span></span>
LOCATION:Workforce Solutions East Texas Jacksonville 2027 N. Jackson St.
UID:e.1467.4069
SEQUENCE:3
DTSTAMP:20260425T113442Z
URL:http://business.jacksonvilletexas.com/events/details/job-fair-prep-workshop-4069
END:VEVENT

END:VCALENDAR
