BEGIN:VCALENDAR
VERSION:2.0
PRODID:-//ChamberMaster//Event Calendar 2.0//EN
METHOD:PUBLISH
X-PUBLISHED-TTL:P3D
REFRESH-INTERVAL:P3D
CALSCALE:GREGORIAN
BEGIN:VEVENT
DTSTART:20181223T003000Z
DTEND:20181223T020000Z
X-MICROSOFT-CDO-ALLDAYEVENT:FALSE
SUMMARY:Live Navity Scene
DESCRIPTION:Live Navity Scene
X-ALT-DESC;FMTTYPE=text/html:Live Navity Scene&nbsp\;&nbsp\;&nbsp\;&nbsp\;
LOCATION:5858 Hwy 79 Jacksonville\, Tx 75766
UID:e.1467.5550
SEQUENCE:3
DTSTAMP:20260420T040912Z
URL:http://business.jacksonvilletexas.com/events/details/live-navity-scene-5550
END:VEVENT

END:VCALENDAR
