BEGIN:VCALENDAR
VERSION:2.0
PRODID:-//ChamberMaster//Event Calendar 2.0//EN
METHOD:PUBLISH
X-PUBLISHED-TTL:P3D
REFRESH-INTERVAL:P3D
CALSCALE:GREGORIAN
BEGIN:VEVENT
DTSTART;VALUE=DATE:20180322
DTEND;VALUE=DATE:20180326
TRANSP:TRANSPARENT
X-MICROSOFT-CDO-ALLDAYEVENT:TRUE
SUMMARY:Mudd Mayhem
DESCRIPTION:
X-ALT-DESC;FMTTYPE=text/html:
LOCATION:River Run ATV Park
UID:e.1467.4122
SEQUENCE:3
DTSTAMP:20260423T181217Z
URL:http://business.jacksonvilletexas.com/events/details/mudd-mayhem-4122
END:VEVENT

END:VCALENDAR
