BEGIN:VCALENDAR
VERSION:2.0
PRODID:-//ChamberMaster//Event Calendar 2.0//EN
METHOD:PUBLISH
X-PUBLISHED-TTL:P3D
REFRESH-INTERVAL:P3D
CALSCALE:GREGORIAN
BEGIN:VEVENT
DTSTART:20180604T230000Z
DTEND:20180605T020000Z
X-MICROSOFT-CDO-ALLDAYEVENT:FALSE
SUMMARY:Music Circle Monday
DESCRIPTION:Bring your instrument and come jam along with our music friends.  Rotating schedule of hosts including Sonny Powers\, Jodi Westendorf\, Wayne Yeargain and Eddy Chastain.  Coffee\, drinks and some snacks available.
X-ALT-DESC;FMTTYPE=text/html:Bring your instrument and come jam along with our music friends.&nbsp\; Rotating schedule of hosts including Sonny Powers\, Jodi Westendorf\, Wayne Yeargain and Eddy Chastain.&nbsp\; Coffee\, drinks and some snacks available.<br />\n&nbsp\;
LOCATION:The 10 Spot
UID:e.1467.4375
SEQUENCE:3
DTSTAMP:20260423T011410Z
URL:http://business.jacksonvilletexas.com/events/details/music-circle-monday-4375
END:VEVENT

END:VCALENDAR
