BEGIN:VCALENDAR
VERSION:2.0
PRODID:-//ChamberMaster//Event Calendar 2.0//EN
METHOD:PUBLISH
X-PUBLISHED-TTL:P3D
REFRESH-INTERVAL:P3D
CALSCALE:GREGORIAN
BEGIN:VEVENT
DTSTART;VALUE=DATE:20170803
DTEND;VALUE=DATE:20170807
TRANSP:TRANSPARENT
X-MICROSOFT-CDO-ALLDAYEVENT:TRUE
SUMMARY:Sauced in tha Mudd
DESCRIPTION:
X-ALT-DESC;FMTTYPE=text/html:
LOCATION:River Run ATV Park
UID:e.1467.2831
SEQUENCE:3
DTSTAMP:20260425T121410Z
URL:http://business.jacksonvilletexas.com/events/details/sauced-in-tha-mudd-2831
END:VEVENT

END:VCALENDAR
