BEGIN:VCALENDAR
VERSION:2.0
PRODID:-//ChamberMaster//Event Calendar 2.0//EN
METHOD:PUBLISH
X-PUBLISHED-TTL:P3D
REFRESH-INTERVAL:P3D
CALSCALE:GREGORIAN
BEGIN:VEVENT
DTSTART:20181006T140000Z
DTEND:20181006T210000Z
X-MICROSOFT-CDO-ALLDAYEVENT:FALSE
SUMMARY:Scarecrow Trail
DESCRIPTION:Cherokee County Master Gardeners Annual Scarecrow Trail
X-ALT-DESC;FMTTYPE=text/html:Cherokee County Master Gardeners Annual Scarecrow Trail
LOCATION:Ruth Nichols Arboretum 1015 Loop 456\, Jacksonville\, TX
UID:e.1467.4134
SEQUENCE:3
DTSTAMP:20260420T035008Z
URL:http://business.jacksonvilletexas.com/events/details/scarecrow-trail-4134
END:VEVENT

END:VCALENDAR
