BEGIN:VCALENDAR
VERSION:2.0
PRODID:-//ChamberMaster//Event Calendar 2.0//EN
METHOD:PUBLISH
X-PUBLISHED-TTL:P3D
REFRESH-INTERVAL:P3D
CALSCALE:GREGORIAN
BEGIN:VEVENT
DTSTART:20190223T200000Z
DTEND:20190223T213000Z
X-MICROSOFT-CDO-ALLDAYEVENT:FALSE
SUMMARY:"Senior" Prom
DESCRIPTION:Family First requests your presence at the "Senior" Prom\n\nFeaturing Dancing\, Refreshments\, Fun
X-ALT-DESC;FMTTYPE=text/html:<div style="text-align: center\;">Family First requests your presence at the &quot\;Senior&quot\; Prom<br />\nFeaturing Dancing\, Refreshments\, Fun<br />\n&nbsp\;</div>\n
LOCATION:The Ruby Ballroom 625 College Avenue Jacksonville
UID:e.1467.6040
SEQUENCE:3
DTSTAMP:20260420T083121Z
URL:http://business.jacksonvilletexas.com/events/details/senior-prom-6040
END:VEVENT

END:VCALENDAR
