BEGIN:VCALENDAR
VERSION:2.0
PRODID:-//ChamberMaster//Event Calendar 2.0//EN
METHOD:PUBLISH
X-PUBLISHED-TTL:P3D
REFRESH-INTERVAL:P3D
CALSCALE:GREGORIAN
BEGIN:VEVENT
DTSTART:20170924T003000Z
DTEND:20170924T030000Z
X-MICROSOFT-CDO-ALLDAYEVENT:FALSE
SUMMARY:Shake Rattle and Roll!
DESCRIPTION:The magical music of the 50's and 60's is reborn when this all female show group from East Texas take the stage. Winners of the largest Doo Wop contest ever held in Las Vegas\, these ladies are popular for their ability to keep the crowd entertained with their vocal harmonies\, synchronized moves\, hula hooping skills and comedy.
X-ALT-DESC;FMTTYPE=text/html:The magical music of the 50&rsquo\;s and 60&rsquo\;s is reborn when this all female show group from East Texas take the stage. Winners of the largest Doo Wop contest ever held in Las Vegas\, these ladies are popular for their ability to keep the crowd entertained with their vocal harmonies\, synchronized moves\, hula hooping skills and comedy.
LOCATION:Cherokee Civic Theatre 157 West 5thSt. Rusk Tx
UID:e.1467.4081
SEQUENCE:3
DTSTAMP:20260425T140446Z
URL:http://business.jacksonvilletexas.com/events/details/shake-rattle-and-roll-4081
END:VEVENT

END:VCALENDAR
