BEGIN:VCALENDAR
VERSION:2.0
PRODID:-//ChamberMaster//Event Calendar 2.0//EN
METHOD:PUBLISH
X-PUBLISHED-TTL:P3D
REFRESH-INTERVAL:P3D
CALSCALE:GREGORIAN
BEGIN:VEVENT
DTSTART:20171028T230000Z
DTEND:20171029T040000Z
X-MICROSOFT-CDO-ALLDAYEVENT:FALSE
SUMMARY:The Bull Bash Revolution
DESCRIPTION:Gates open @ 5:00 PM
X-ALT-DESC;FMTTYPE=text/html:<span style="font-family:times new roman\,serif\;"><span style="font-size:12.0pt\;">Gates open @ 5:00 PM</span></span>
LOCATION:Jacksonville Rodeo Grounds
UID:e.1467.2888
SEQUENCE:3
DTSTAMP:20260424T180738Z
URL:http://business.jacksonvilletexas.com/events/details/the-bull-bash-revolution-2888
END:VEVENT

END:VCALENDAR
