BEGIN:VCALENDAR
VERSION:2.0
PRODID:-//ChamberMaster//Event Calendar 2.0//EN
METHOD:PUBLISH
X-PUBLISHED-TTL:P3D
REFRESH-INTERVAL:P3D
CALSCALE:GREGORIAN
BEGIN:VEVENT
DTSTART:20250615T000000Z
DTEND:20250615T040000Z
X-MICROSOFT-CDO-ALLDAYEVENT:FALSE
SUMMARY:20th Annual Tomato Fest Street Dance & Concert - Chili's
DESCRIPTION:20th Annual Chili's Street Dance & Concert\n\n\n\nFeaturing:\n\nDon Louis\n\nCaleb Lane\n\nAshley Ryan\n\n\n\nSaturday\, June 14th\, 7-11 pm\n\n\n\nChili's Parking Lot\n\n\n\nBring your lawn chair and enjoy great entertainment!\n\n\n\nFREE!  \n\n\n\nFinal event for the 41st Annual Tomato Fest.  Enjoy this annual event happening at Chili's Parking Lot.  FREE!
X-ALT-DESC;FMTTYPE=text/html:<strong><span style="font-family:arial\;"><span style="font-size:22px\;">20th Annual Chili&#39\;s Street Dance &amp\; Concert<br />\n<br />\nFeaturing:<br />\nDon Louis<br />\nCaleb Lane<br />\nAshley Ryan<br />\n<br />\nSaturday\, June 14th\, 7-11 pm<br />\n<br />\nChili&#39\;s Parking Lot<br />\n<br />\nBring your lawn chair and enjoy great entertainment!<br />\n<br />\nFREE!&nbsp\;&nbsp\;<br />\n<br />\nFinal event for the 41st Annual Tomato Fest.&nbsp\; Enjoy this annual event happening at Chili&#39\;s Parking Lot.&nbsp\; FREE!&nbsp\;&nbsp\;</span></span></strong><br />\n&nbsp\;
LOCATION:Chili's Parking Lot 1225 S. Jackson Jacksonville\, TX 75766
UID:e.1467.9883
SEQUENCE:3
DTSTAMP:20260422T103316Z
URL:https://business.jacksonvilletexas.com/events/details/20th-annual-tomato-fest-street-dance-concert-chili-s-9883
END:VEVENT

END:VCALENDAR
