BEGIN:VCALENDAR
VERSION:2.0
PRODID:-//ChamberMaster//Event Calendar 2.0//EN
METHOD:PUBLISH
X-PUBLISHED-TTL:P3D
REFRESH-INTERVAL:P3D
CALSCALE:GREGORIAN
BEGIN:VEVENT
DTSTART;VALUE=DATE:20240916
DTEND;VALUE=DATE:20240917
TRANSP:TRANSPARENT
X-MICROSOFT-CDO-ALLDAYEVENT:TRUE
SUMMARY:5th Annual Golf Tournament
DESCRIPTION:5th Annual Chamber Golf Tournament\n\n\n\nMonday\, September 16th\n\nCherokee Ranch Golf Club\n\n10:00 - 10:45 am Registration/lunch/door prizes\n\n11:00 am Tee Time\n\n4:00 pm Awards\n\n\n\nTeam Entry $500\n\n4 man scramble - 18 holes\n\nIncludes green fees\, 2 golf carts\, lunch and complimentary ice.\n\n\n\nTitle Sponsor: Christus Mother Frances Jacksonville\n\n\n\nDiamond Sponsors:\n\nAustin Bank\n\nBannister's Plumbing & Air\n\nBill McRae Ford\n\nChili's\n\nJake Ellzey (US State Representative)\n\nHospice Plus\n\nIsign Shop\n\nJacksonville Progress\n\nMcDonald's\n\nOncor\n\nPorter Pharmacy\n\nR & K Distributors\n\nRepublic Services\n\nSadler's Kitchen & Catering\n\nSouthside Bank\n\nSpherion Staffing\n\nState Farm Insurance - Jay Jackson & Jeremy Harmel\n\nTexas Farm Bureau Insurance\n\nTexas National Bank\n\nVCare Pharmacy\n\nWalmart\n\n\n\nPlatinum Sponsors:\n\nAll Star Collisions\n\nG & G Distributors\n\nJacksonville Custom Gutters\n\nWoodmenLife
X-ALT-DESC;FMTTYPE=text/html:<strong><span style="font-family:arial\;"><span style="font-size:22px\;">&nbsp\;5th Annual Chamber Golf Tournament<br />\n<br />\nMonday\, September 16th<br />\nCherokee Ranch Golf Club<br />\n<span style="font-size:18px\;">10:00 - 10:45 am Registration/lunch/door prizes<br />\n11:00 am Tee Time<br />\n4:00 pm Awards</span><br />\n<br />\nTeam Entry $500<br />\n4 man scramble - 18 holes<br />\nIncludes green fees\, 2 golf carts\, lunch and complimentary ice.<br />\n<br />\nTitle Sponsor: Christus Mother Frances Jacksonville<br />\n<br />\nDiamond Sponsors:<br />\nAustin Bank<br />\nBannister&#39\;s Plumbing &amp\; Air</span></span></strong><br />\n<strong style="color: rgb(51\, 51\, 51)\; font-family: sans-serif\, Arial\, Verdana\, &quot\;Trebuchet MS&quot\;\; font-size: 13px\;"><span style="font-family: arial\;"><span style="font-size: 22px\;">Bill McRae Ford<br />\nChili&#39\;s</span></span></strong><br />\n<strong><span style="font-family:arial\;"><span style="font-size:22px\;">Jake Ellzey (US State Representative)<br />\nHospice Plus<br />\nIsign Shop<br />\nJacksonville Progress<br />\nMcDonald&#39\;s<br />\nOncor<br />\nPorter Pharmacy<br />\nR &amp\; K Distributors<br />\nRepublic Services<br />\nSadler&#39\;s Kitchen &amp\; Catering<br />\nSouthside Bank<br />\nSpherion Staffing<br />\nState Farm Insurance - Jay Jackson &amp\; Jeremy Harmel<br />\nTexas Farm Bureau Insurance<br />\nTexas National Bank<br />\nVCare Pharmacy<br />\nWalmart<br />\n<br />\nPlatinum Sponsors:<br />\nAll Star Collisions<br />\nG &amp\; G Distributors<br />\nJacksonville Custom Gutters<br />\nWoodmenLife</span></span></strong><br />\n&nbsp\;
LOCATION:Cherokee Ranch Golf Club 14881 US Highway 79 East Jacksonville\, TX 75766
UID:e.1467.8489
SEQUENCE:3
DTSTAMP:20260422T075041Z
URL:https://business.jacksonvilletexas.com/events/details/5th-annual-golf-tournament-8489
END:VEVENT

END:VCALENDAR
