BEGIN:VCALENDAR
VERSION:2.0
PRODID:-//ChamberMaster//Event Calendar 2.0//EN
METHOD:PUBLISH
X-PUBLISHED-TTL:P3D
REFRESH-INTERVAL:P3D
CALSCALE:GREGORIAN
BEGIN:VEVENT
DTSTART:20261017T140000Z
DTEND:20261031T200000Z
X-MICROSOFT-CDO-ALLDAYEVENT:FALSE
SUMMARY:CCMG 16th Annual SCARECROW TRAIL to benefit HOPE
DESCRIPTION:Community businesses and individuals display family friendly scarecrows.\n\nDonation for entry to view the scarecrows\n\nOpening day with games and face painting and more
X-ALT-DESC;FMTTYPE=text/html:Community businesses and individuals display family friendly scarecrows.<br />\nDonation for entry to view the scarecrows<br />\nOpening day with games and face painting and more
LOCATION:Ruth Nichols Arboretum behind the Texas Forest Service next to Autry's Funeral Home 1015 SH-456 Loop Jacksonville\, TX
UID:e.1467.10330
SEQUENCE:3
DTSTAMP:20260422T110224Z
URL:https://business.jacksonvilletexas.com/events/details/ccmg-16th-annual-scarecrow-trail-to-benefit-hope-10330
END:VEVENT

END:VCALENDAR
