BEGIN:VCALENDAR
VERSION:2.0
PRODID:-//ChamberMaster//Event Calendar 2.0//EN
METHOD:PUBLISH
X-PUBLISHED-TTL:P3D
REFRESH-INTERVAL:P3D
CALSCALE:GREGORIAN
BEGIN:VEVENT
DTSTART:20260314T160000Z
DTEND:20260314T210000Z
X-MICROSOFT-CDO-ALLDAYEVENT:FALSE
SUMMARY:CCMG Spring Conference
DESCRIPTION:Spring Conference w/ 2 guest speakers\, silent auction\, snacks\, and more
X-ALT-DESC;FMTTYPE=text/html:Spring Conference w/ 2 guest speakers\, silent auction\, snacks\, and more
LOCATION:First Christian Church 1920 Beaumont St Jacksonville\, TX
UID:e.1467.10328
SEQUENCE:3
DTSTAMP:20260422T102724Z
URL:https://business.jacksonvilletexas.com/events/details/ccmg-spring-conference-10328
END:VEVENT

END:VCALENDAR
