BEGIN:VCALENDAR
VERSION:2.0
PRODID:-//ChamberMaster//Event Calendar 2.0//EN
METHOD:PUBLISH
X-PUBLISHED-TTL:P3D
REFRESH-INTERVAL:P3D
CALSCALE:GREGORIAN
BEGIN:VEVENT
DTSTART;VALUE=DATE:20260416
DTEND;VALUE=DATE:20260501
TRANSP:TRANSPARENT
X-MICROSOFT-CDO-ALLDAYEVENT:TRUE
SUMMARY:Free Summer Kid Show Sponsorship Sign-up
DESCRIPTION:We are accepting sponsors for our Free Summer Kid Shows. We are trying to connect with local businesses and individuals who wish to contribute to a wonder kid and family friendly event. Please contact the local Hometown Cinema in Jacksonville for more information. Deadline for sign-up is April\, 30th 2026 for this location ONLY!
X-ALT-DESC;FMTTYPE=text/html:We are accepting sponsors for our Free Summer Kid Shows. We are trying to connect with local businesses and individuals who wish to contribute to a wonder kid and family friendly event. Please contact the local Hometown Cinema in Jacksonville for more information. Deadline for sign-up is April\, 30th 2026 for this location ONLY!
LOCATION:1710 South Jackson Street #A Jacksonville\, TX 75766
UID:e.1467.10889
SEQUENCE:3
DTSTAMP:20260420T182534Z
URL:https://business.jacksonvilletexas.com/events/details/free-summer-kid-show-sponsorship-sign-up-10889
END:VEVENT

END:VCALENDAR
