BEGIN:VCALENDAR
VERSION:2.0
PRODID:-//ChamberMaster//Event Calendar 2.0//EN
METHOD:PUBLISH
X-PUBLISHED-TTL:P3D
REFRESH-INTERVAL:P3D
CALSCALE:GREGORIAN
BEGIN:VEVENT
DTSTART:20260429T163000Z
DTEND:20260429T173000Z
X-MICROSOFT-CDO-ALLDAYEVENT:FALSE
SUMMARY:Inter-Connected Marketing Ribbon Cutting
DESCRIPTION:Join us as we celebrate a major milestone for Inter-Connected Marketing with our official Ribbon Cutting Ceremony!\n\n \n\n\n\nDate: April 29th\n\nTime: 11:30 AM\n\nLocation: 1530 E Pine St\, Jacksonville\, TX 75766\n\n \n\n\n\nWe're excited to celebrate this moment with our community\, partners\, and supporters who have helped bring our vision to life. Come out\, connect with us\, and be part of the celebration as we take this next step forward!\n\n\n\nWe look forward to seeing you there!
X-ALT-DESC;FMTTYPE=text/html:<div>\n<div>Join us as we celebrate a major milestone for Inter-Connected Marketing with our official Ribbon Cutting Ceremony!<br />\n&nbsp\;</div>\n</div>\n\n<div>\n<div>Date: April 29th</div>\n\n<div>Time: 11:30 AM</div>\n\n<div>Location: 1530 E Pine St\, Jacksonville\, TX 75766<br />\n&nbsp\;</div>\n</div>\n\n<div>\n<div>We&rsquo\;re excited to celebrate this moment with our community\, partners\, and supporters who have helped bring our vision to life. Come out\, connect with us\, and be part of the celebration as we take this next step forward!</div>\n</div>\n\n<div>\n<div>We look forward to seeing you there!</div>\n\n<div>&nbsp\;</div>\n</div>\n
LOCATION:
UID:e.1467.10890
SEQUENCE:3
DTSTAMP:20260421T190805Z
URL:https://business.jacksonvilletexas.com/events/details/inter-connected-marketing-ribbon-cutting-10890
END:VEVENT

END:VCALENDAR
