BEGIN:VCALENDAR
VERSION:2.0
PRODID:-//ChamberMaster//Event Calendar 2.0//EN
METHOD:PUBLISH
X-PUBLISHED-TTL:P3D
REFRESH-INTERVAL:P3D
CALSCALE:GREGORIAN
BEGIN:VEVENT
DTSTART:20260705T020000Z
DTEND:20260705T030000Z
X-MICROSOFT-CDO-ALLDAYEVENT:FALSE
SUMMARY:July 4th Fireworks
DESCRIPTION:Lake Jacksonville Association is hosting the annual July 4th Fireworks Display on Lake Jacksonville!\n\nHook's Cookin' will be open from 11 am until 10 pm with a full menu.
X-ALT-DESC;FMTTYPE=text/html:<span style="font-family:tahoma\;"><span style="font-size:11px\;"><strong>Lake Jacksonville Association is hosting the annual July 4th Fireworks Display on Lake Jacksonville!<br />\nHook&#39\;s Cookin&#39\; will be open from 11 am until 10 pm with a full menu.</strong></span></span>
LOCATION:Lake Jacksonville Concession Area Byrd Road Jacksonville\, Tx
UID:e.1467.4584
SEQUENCE:3
DTSTAMP:20260424T194205Z
URL:https://business.jacksonvilletexas.com/events/details/july-4th-fireworks-07-04-2026-4584
END:VEVENT

END:VCALENDAR
