BEGIN:VCALENDAR
VERSION:2.0
PRODID:-//ChamberMaster//Event Calendar 2.0//EN
METHOD:PUBLISH
X-PUBLISHED-TTL:P3D
REFRESH-INTERVAL:P3D
CALSCALE:GREGORIAN
BEGIN:VEVENT
DTSTART:20250828T170000Z
DTEND:20250828T180000Z
X-MICROSOFT-CDO-ALLDAYEVENT:FALSE
SUMMARY:Lunch Bunch - Chick Fil A
DESCRIPTION:Dutch Treat & Networking! \n\n\n\nCome join us for lunch and meet other Chamber members!
X-ALT-DESC;FMTTYPE=text/html:Dutch Treat &amp\; Networking!&nbsp\;<br />\n<br />\nCome join us for lunch and meet other Chamber members!&nbsp\;
LOCATION:Chick Fil A \, Jacksonville TX
UID:e.1467.9905
SEQUENCE:3
DTSTAMP:20260420T084717Z
URL:https://business.jacksonvilletexas.com/events/details/lunch-bunch-chick-fil-a-9905
END:VEVENT

END:VCALENDAR
