BEGIN:VCALENDAR
VERSION:2.0
PRODID:-//ChamberMaster//Event Calendar 2.0//EN
METHOD:PUBLISH
X-PUBLISHED-TTL:P3D
REFRESH-INTERVAL:P3D
CALSCALE:GREGORIAN
BEGIN:VEVENT
DTSTART:20260317T170000Z
DTEND:20260317T180000Z
X-MICROSOFT-CDO-ALLDAYEVENT:FALSE
SUMMARY:Plug In & Stay Connected - March 2026
DESCRIPTION:Plug In & Stay Connected\n\n\n\nTuesday\, March 17th  12 - 1pm\n\nJacksonville Chamber of Commerce\n\n307 E. Commerce - Jacksonville\n\n\n\nRSVP today to learn how to get the most out of your membership!\n\nLunch provided but must RSVP - Limited seating\n\n\n\nCome join us for lunch & learn how to get the most of your membership! \n\nLunch provided & registration required - Limited seating.
X-ALT-DESC;FMTTYPE=text/html:<strong><em><span style="font-family:times new roman\;"><span style="font-size:26px\;">Plug In &amp\; Stay Connected<br />\n<br />\nTuesday\, March 17th&nbsp\; 12 - 1pm<br />\nJacksonville Chamber of Commerce<br />\n307 E. Commerce - Jacksonville<br />\n<br />\nRSVP today to learn how to get the most out of your membership!<br />\nLunch provided but must RSVP - Limited seating</span></span></em></strong><br />\n<br />\n<span style="font-size:20px\;"><span style="font-family:times new roman\;"><em><strong>Come join us for lunch &amp\; learn how to get the most of your membership!&nbsp\;<br />\nLunch provided &amp\; registration required - Limited seating.</strong></em></span></span>
LOCATION:Chamber Office 307 E Commerce St Jacksonville\, TX 75766
UID:e.1467.10341
SEQUENCE:3
DTSTAMP:20260422T102731Z
URL:https://business.jacksonvilletexas.com/events/details/plug-in-stay-connected-10341
END:VEVENT

END:VCALENDAR
