BEGIN:VCALENDAR
VERSION:2.0
PRODID:-//ChamberMaster//Event Calendar 2.0//EN
METHOD:PUBLISH
X-PUBLISHED-TTL:P3D
REFRESH-INTERVAL:P3D
CALSCALE:GREGORIAN
BEGIN:VEVENT
DTSTART:20261010T000000Z
DTEND:20261010T040000Z
X-MICROSOFT-CDO-ALLDAYEVENT:FALSE
SUMMARY:VFW - Karaoke Friday Nights
DESCRIPTION:Join friends with a great night of Karaoke every Friday night at the VFW in Jacksonville Texas
X-ALT-DESC;FMTTYPE=text/html:Join friends with a great night of Karaoke every Friday night at the VFW in Jacksonville Texas
LOCATION:201 Memorial Drive Jacksonville
UID:e.1467.9539
SEQUENCE:3
DTSTAMP:20260422T121133Z
URL:https://business.jacksonvilletexas.com/events/details/vfw-karaoke-friday-nights-10-09-2026-9539
END:VEVENT

END:VCALENDAR
