BEGIN:VCALENDAR
VERSION:2.0
PRODID:-//ChamberMaster//Event Calendar 2.0//EN
METHOD:PUBLISH
X-PUBLISHED-TTL:P3D
REFRESH-INTERVAL:P3D
CALSCALE:GREGORIAN
BEGIN:VEVENT
DTSTART:20250614T144500Z
DTEND:20250614T170000Z
X-MICROSOFT-CDO-ALLDAYEVENT:FALSE
SUMMARY:Youth Tomato Fest Talent Contest
DESCRIPTION:Review Flyer for Details
X-ALT-DESC;FMTTYPE=text/html:Review Flyer for Details
LOCATION:Under the overpass on Commerce St Jacksonville
UID:e.1467.9895
SEQUENCE:3
DTSTAMP:20260422T103317Z
URL:https://business.jacksonvilletexas.com/events/details/youth-tomato-fest-talent-contest-9895
END:VEVENT

END:VCALENDAR
